BEGIN:VCALENDAR
VERSION:2.0
PRODID:-//Partey.io//Partey.io//EN
URL:https://partey.io
SOURCE;VALUE=URI:https://partey.io/api/ical?id=ywEvd6UMAtfq&l=en
NAME:Partey.io Event Invites
X-WR-CALNAME:Partey.io Event Invites
X-WR-CALDESC:Easily invite to events and stay in touch with your guests. F
 ree, privacy-first, and without the hassle of accounts.
TIMEZONE-ID:America/Los_Angeles
X-WR-TIMEZONE:America/Los_Angeles
REFRESH-INTERVAL;VALUE=DURATION:PT6H
X-PUBLISHED-TTL:PT6H
BEGIN:VEVENT
UID:6b050705-876e-4d7a-938b-14972f00b722
SEQUENCE:0
DTSTAMP:20260422T121420
DTSTART;TZID=America/Los_Angeles:20241201T140000
SUMMARY:Noelle's 60th!
LOCATION:Poor House Bistro \, 317 W. St. John St \, San Jose \, CA 95110
DESCRIPTION:San Jose’s Choice for New Orleans Style Cuisine!\n\nLet the 
 good times roll out on the patio or inside the historic Victorian home of 
 Famiglia Meduri Poor House Bistro! Full Bar\, Italian Wine\, & Craft Beer.
  Sunday live music starts at 4 PM.\n\nInvited through Partey.io.
BEGIN:VALARM
ACTION:DISPLAY
TRIGGER:-P1D
DESCRIPTION:Noelle's 60th!
END:VALARM
BEGIN:VALARM
ACTION:DISPLAY
TRIGGER:-PT1H
DESCRIPTION:Noelle's 60th!
END:VALARM
URL;VALUE=URI:https://partey.io/ywEvd6UMAtfq
END:VEVENT
END:VCALENDAR