BEGIN:VCALENDAR
VERSION:2.0
PRODID:-//Partey.io//Partey.io//EN
URL:https://partey.io
SOURCE;VALUE=URI:https://partey.io/api/ical?id=dFJCCkiluXpz&l=en
NAME:Partey.io Event Invites
X-WR-CALNAME:Partey.io Event Invites
X-WR-CALDESC:Easily invite to events and stay in touch with your guests. F
 ree, privacy-first, and without the hassle of accounts.
TIMEZONE-ID:America/New_York
X-WR-TIMEZONE:America/New_York
REFRESH-INTERVAL;VALUE=DURATION:PT6H
X-PUBLISHED-TTL:PT6H
BEGIN:VEVENT
UID:03ef47bc-423f-4863-a10d-4c7264835f7d
SEQUENCE:0
DTSTAMP:20260419T193929
DTSTART;TZID=America/New_York:20250816T180000
DTEND;TZID=America/New_York:20250816T210000
SUMMARY:Fair on the Farm Fundraiser!
LOCATION:500 Freyer Drive\, Longwood FL 32750
DESCRIPTION:Join Us for a Farm Fair Fundraiser!\n=========================
 ==========\n\n**Supporting Nathaniel & Hannah's Adoption Journey**\n\nYou'
 re invited to a fantastic farm fair fundraiser as we work toward completin
 g Nathaniel & Hannah's adoption funding goals! As some of you may know\, L
 ifesong for Orphans along with First Baptist Orlando offered us a very gen
 erous $7\,000 matching grant\, and we would love to raise enough money to 
 take full advantage of this! Our goal for this event is to raise $3\,000 t
 o take full advantage of our matching grant. _As of today this we only nee
 d to raise another $9\,000 to have ALL of our remaining agency fees covere
 d_! We hope to see you there!\n\nWhat to Expect\n--------------\n\nCome hu
 ngry and ready for fun! We'll have all your fair favorites:\n\n*   **Delic
 ious Food** - BBQ platters\, corn dogs\, popcorn\n    \n*   **Carnival Gam
 es** - Pop the balloon\, ring toss\, ping pong toss and others\n    \n*   
 **Exciting Raffles** - Gift baskets and baked goods to be won\n    \n\nHow
  It Works\n------------\n\n**Tickets:** Much like a traditional county fai
 r or fall festival\, you will be able to purchase tickets that can be used
  for games and food. We will also have a station where you can purchase ra
 ffle tickets to win some really cool prizes! Tickets can be purchased with
  cash or via card by donating to our tax-deductible Lifesong for Orphans a
 ccount.  \n**Donations:** While we HIGHLY recommend the smoked BBQ\, if yo
 u just want to come and hang out but still offer a donation we will gladly
  accept this!\n\nRSVP Information\n----------------\n\nWhile not required\
 , RSVPs are greatly appreciated so we can plan accordingly and ensure we h
 ave enough food for everyone. Whether or not you RSVP\, we hope to see you
  there!\n\n**_If you are unable to attend but still want to support us\, y
 ou can donate directly to our adoption fund here:_** [https://give.lifeson
 g.org/lifesong/11455-ff](https://give.lifesong.org/lifesong/11455-ff)\n\n*
  * *\n\n_Thank you for supporting our family's adoption journey. Every tic
 ket purchased and donation made brings us one step closer to welcoming our
  child home._\n\nInvited through Partey.io.
BEGIN:VALARM
ACTION:DISPLAY
TRIGGER:-P1D
DESCRIPTION:Fair on the Farm Fundraiser!
END:VALARM
BEGIN:VALARM
ACTION:DISPLAY
TRIGGER:-PT1H
DESCRIPTION:Fair on the Farm Fundraiser!
END:VALARM
URL;VALUE=URI:https://partey.io/dFJCCkiluXpz
END:VEVENT
END:VCALENDAR