BEGIN:VCALENDAR
VERSION:2.0
PRODID:-//Partey.io//Partey.io//EN
URL:https://partey.io
SOURCE;VALUE=URI:https://partey.io/api/ical?id=Zhff6TnbgF1v&l=en
NAME:Partey.io Event Invites
X-WR-CALNAME:Partey.io Event Invites
X-WR-CALDESC:Easily invite to events and stay in touch with your guests. F
 ree, privacy-first, and without the hassle of accounts.
TIMEZONE-ID:America/New_York
X-WR-TIMEZONE:America/New_York
REFRESH-INTERVAL;VALUE=DURATION:PT6H
X-PUBLISHED-TTL:PT6H
BEGIN:VEVENT
UID:dad2e6fa-3c60-4d4a-abcd-7e92d5acf440
SEQUENCE:0
DTSTAMP:20260422T004955
DTSTART;TZID=America/New_York:20241210T183000
DTEND;TZID=America/New_York:20241210T213000
SUMMARY:ISC2Philly Year End Event
LOCATION:1001 Market St APT 3010\, Philadelphia\, PA 19107
DESCRIPTION:ISC2Philly is having its year end event at Round1 on Tu 12/10/
 24 @ 630pm\n\n[http://round1usa.com/](http://round1usa.com/)\n\nJoin us fo
 r Pizza Beer Bowling and Arcade games!!\n\nSponsored by Appgate [https://w
 ww.appgate.com/](https://www.appgate.com/)\n\nFREE for 2024 paid members o
 r if you sign up for a 2025 membership [https://app.joinit.com/o/isc2phill
 y/](https://app.joinit.com/o/isc2philly/)\n\n$20 for Non-paid members.\n\n
 Invited through Partey.io.
BEGIN:VALARM
ACTION:DISPLAY
TRIGGER:-P1D
DESCRIPTION:ISC2Philly Year End Event
END:VALARM
BEGIN:VALARM
ACTION:DISPLAY
TRIGGER:-PT1H
DESCRIPTION:ISC2Philly Year End Event
END:VALARM
URL;VALUE=URI:https://partey.io/Zhff6TnbgF1v
END:VEVENT
END:VCALENDAR