BEGIN:VCALENDAR
VERSION:2.0
PRODID:-//Partey.io//Partey.io//EN
URL:https://partey.io
SOURCE;VALUE=URI:https://partey.io/api/ical?id=KBZe1Voi9u6S&l=en
NAME:Partey.io Event Invites
X-WR-CALNAME:Partey.io Event Invites
X-WR-CALDESC:Easily invite to events and stay in touch with your guests. F
 ree, privacy-first, and without the hassle of accounts.
TIMEZONE-ID:America/New_York
X-WR-TIMEZONE:America/New_York
REFRESH-INTERVAL;VALUE=DURATION:PT6H
X-PUBLISHED-TTL:PT6H
BEGIN:VEVENT
UID:087417a2-b807-4003-be30-6b272a7be207
SEQUENCE:0
DTSTAMP:20260422T020243
DTSTART;TZID=America/New_York:20250326T180000
SUMMARY:ISC2 Q1 2025 in person meeting sponsored by Rapid7 @ Buff Billiard
 s on 3/26
LOCATION:https://www.buffalobilliardsphilly.com/
DESCRIPTION:Come out to network with other ISC2 members and learn with Rap
 id7 [https://www.rapid7.com/](https://www.rapid7.com/) at Buffalo Billiard
 s. Free to all full members. $20 to chapter friends. See your chapter stat
 us at [https://app.joinit.com/o/isc2philly/](https://app.joinit.com/o/isc2
 philly/)\n\nHope to see you there!!!\n\nDisclaimer: Attendees emails will 
 be shared with the sponsor. Any photos taken will be shared on isc2 social
  media sites.\n\nInvited through Partey.io.
BEGIN:VALARM
ACTION:DISPLAY
TRIGGER:-P1D
DESCRIPTION:ISC2 Q1 2025 in person meeting sponsored by Rapid7 @ Buff Bill
 iards on 3/26
END:VALARM
BEGIN:VALARM
ACTION:DISPLAY
TRIGGER:-PT1H
DESCRIPTION:ISC2 Q1 2025 in person meeting sponsored by Rapid7 @ Buff Bill
 iards on 3/26
END:VALARM
URL;VALUE=URI:https://partey.io/KBZe1Voi9u6S
END:VEVENT
END:VCALENDAR