BEGIN:VCALENDAR
VERSION:2.0
PRODID:-//Partey.io//Partey.io//EN
URL:https://partey.io
SOURCE;VALUE=URI:https://partey.io/api/ical?id=ADB_y_upMJ96&l=en
NAME:Partey.io Event Invites
X-WR-CALNAME:Partey.io Event Invites
X-WR-CALDESC:Easily invite to events and stay in touch with your guests. F
 ree, privacy-first, and without the hassle of accounts.
TIMEZONE-ID:America/New_York
X-WR-TIMEZONE:America/New_York
REFRESH-INTERVAL;VALUE=DURATION:PT6H
X-PUBLISHED-TTL:PT6H
BEGIN:VEVENT
UID:38744853-ba50-48c2-8dfd-bf533fc02527
SEQUENCE:0
DTSTAMP:20260421T193445
DTSTART;TZID=America/New_York:20240516T180000
SUMMARY:ISC2 Philadelphia | SRA - Q2 Networking Event
LOCATION:1600 Market St Suite 3000\, Philadelphia\, PA 19103
DESCRIPTION:### The ISC2 Philadelphia chapter will be at Security Risk Adv
 isors([https://sra.io/](https://sra.io/) ) Security Risk Advisors will be 
 hosting us for an amazing educational and networking event.\n\n### Not onl
 y will there be food\, but this event qualifies for up to 3 CPEs!\n\n### L
 earn more about Tim Wainwright\, the speaker\, at [https://sra.io/author/t
 im-wainwright/](https://sra.io/author/tim-wainwright/) and [https://www.li
 nkedin.com/in/tim-wainwright-87a4a51/.](https://www.linkedin.com/in/tim-wa
 inwright-87a4a51/.)\n\n### This event is free for paid members of ISC2 Phi
 ladelphia and $20 for any other attendee. Zelle [treasurer@isc2philly.com]
 (mailto:treasurer@isc2philly.com) to pay for your ticket.\n\nInvited throu
 gh Partey.io.
BEGIN:VALARM
ACTION:DISPLAY
TRIGGER:-P1D
DESCRIPTION:ISC2 Philadelphia | SRA - Q2 Networking Event
END:VALARM
BEGIN:VALARM
ACTION:DISPLAY
TRIGGER:-PT1H
DESCRIPTION:ISC2 Philadelphia | SRA - Q2 Networking Event
END:VALARM
URL;VALUE=URI:https://partey.io/ADB_y_upMJ96
END:VEVENT
END:VCALENDAR