BEGIN:VCALENDAR
VERSION:2.0
PRODID:-//Partey.io//Partey.io//EN
URL:https://partey.io
SOURCE;VALUE=URI:https://partey.io/api/ical?id=422wP7uRQJru&l=en
NAME:Partey.io Event Invites
X-WR-CALNAME:Partey.io Event Invites
X-WR-CALDESC:Easily invite to events and stay in touch with your guests. F
 ree, privacy-first, and without the hassle of accounts.
TIMEZONE-ID:America/New_York
X-WR-TIMEZONE:America/New_York
REFRESH-INTERVAL;VALUE=DURATION:PT6H
X-PUBLISHED-TTL:PT6H
BEGIN:VEVENT
UID:ba188387-fdb0-405f-ac0f-0994f9fb754f
SEQUENCE:0
DTSTAMP:20260421T183759
DTSTART;TZID=America/New_York:20240916T180000
DTEND;TZID=America/New_York:20240916T210000
SUMMARY:ISC2 Philadelphia | Mimecast - Q3 Networking Event @ SRA
LOCATION:1600 Market St Suite 3000\, Philadelphia\, PA 19103
DESCRIPTION:### **Mimecast** [https://www.mimecast.com/](https://www.mimec
 ast.com/) **will be hosting the ISC2 Philadelphia chapter at Security Risk
  Advisors(**[https://sra.io/](https://sra.io/) ) Please join us for an ama
 zing educational and networking event.\n\n### **Not only will there be foo
 d\, but this event qualifies for up to 3 CPEs!**\n\n### **This event is fr
 ee for paid members of ISC2 Philadelphia and $20 for any other attendee. Z
 elle** [treasurer@isc2philly.com](mailto:treasurer@isc2philly.com) to pay 
 for your ticket.\n\nInvited through Partey.io.
BEGIN:VALARM
ACTION:DISPLAY
TRIGGER:-P1D
DESCRIPTION:ISC2 Philadelphia | Mimecast - Q3 Networking Event @ SRA
END:VALARM
BEGIN:VALARM
ACTION:DISPLAY
TRIGGER:-PT1H
DESCRIPTION:ISC2 Philadelphia | Mimecast - Q3 Networking Event @ SRA
END:VALARM
URL;VALUE=URI:https://partey.io/422wP7uRQJru
END:VEVENT
END:VCALENDAR